BEGIN:VCALENDAR
VERSION:2.0
PRODID:-//Ortsfeuerwehr Almhorst - ECPv6.15.20//NONSGML v1.0//EN
CALSCALE:GREGORIAN
METHOD:PUBLISH
X-WR-CALNAME:Ortsfeuerwehr Almhorst
X-ORIGINAL-URL:https://feuerwehr-almhorst.de
X-WR-CALDESC:Veranstaltungen für Ortsfeuerwehr Almhorst
REFRESH-INTERVAL;VALUE=DURATION:PT1H
X-Robots-Tag:noindex
X-PUBLISHED-TTL:PT1H
BEGIN:VTIMEZONE
TZID:Europe/Berlin
BEGIN:DAYLIGHT
TZOFFSETFROM:+0100
TZOFFSETTO:+0200
TZNAME:CEST
DTSTART:20250330T010000
END:DAYLIGHT
BEGIN:STANDARD
TZOFFSETFROM:+0200
TZOFFSETTO:+0100
TZNAME:CET
DTSTART:20251026T010000
END:STANDARD
BEGIN:DAYLIGHT
TZOFFSETFROM:+0100
TZOFFSETTO:+0200
TZNAME:CEST
DTSTART:20260329T010000
END:DAYLIGHT
BEGIN:STANDARD
TZOFFSETFROM:+0200
TZOFFSETTO:+0100
TZNAME:CET
DTSTART:20261025T010000
END:STANDARD
BEGIN:DAYLIGHT
TZOFFSETFROM:+0100
TZOFFSETTO:+0200
TZNAME:CEST
DTSTART:20270328T010000
END:DAYLIGHT
BEGIN:STANDARD
TZOFFSETFROM:+0200
TZOFFSETTO:+0100
TZNAME:CET
DTSTART:20271031T010000
END:STANDARD
END:VTIMEZONE
BEGIN:VEVENT
DTSTART;TZID=Europe/Berlin:20260805T190000
DTEND;TZID=Europe/Berlin:20260805T210000
DTSTAMP:20260422T130546
CREATED:20260128T094414Z
LAST-MODIFIED:20260128T094414Z
UID:5347-1785956400-1785963600@feuerwehr-almhorst.de
SUMMARY:Fahrertraining
DESCRIPTION:Gruppenführer
URL:https://feuerwehr-almhorst.de/kalender/fahrertraining
CATEGORIES:Einsatzabteilung
END:VEVENT
BEGIN:VEVENT
DTSTART;TZID=Europe/Berlin:20260816T103000
DTEND;TZID=Europe/Berlin:20260816T123000
DTSTAMP:20260422T130546
CREATED:20260207T140051Z
LAST-MODIFIED:20260207T140051Z
UID:5464-1786876200-1786883400@feuerwehr-almhorst.de
SUMMARY:Treffen "Alters Kameraden"
DESCRIPTION:B.Otte
URL:https://feuerwehr-almhorst.de/kalender/treffen-alters-kameraden-11
CATEGORIES:Alterskameraden
END:VEVENT
BEGIN:VEVENT
DTSTART;TZID=Europe/Berlin:20260818T183000
DTEND;TZID=Europe/Berlin:20260818T203000
DTSTAMP:20260422T130546
CREATED:20260128T094334Z
LAST-MODIFIED:20260128T094334Z
UID:5395-1787077800-1787085000@feuerwehr-almhorst.de
SUMMARY:Führungskräfte Fortbildung
DESCRIPTION:Online
URL:https://feuerwehr-almhorst.de/kalender/fuehrungskraefte-fortbildung-2
CATEGORIES:Einsatzabteilung,Gruppenführerfortbildung
END:VEVENT
BEGIN:VEVENT
DTSTART;TZID=Europe/Berlin:20260819T190000
DTEND;TZID=Europe/Berlin:20260819T210000
DTSTAMP:20260422T130546
CREATED:20260128T094414Z
LAST-MODIFIED:20260128T094414Z
UID:5349-1787166000-1787173200@feuerwehr-almhorst.de
SUMMARY:Kameradschaftsabend
DESCRIPTION:M.Uhde/M.Kreitz
URL:https://feuerwehr-almhorst.de/kalender/kameradschaftsabend-2
CATEGORIES:Einsatzabteilung
END:VEVENT
BEGIN:VEVENT
DTSTART;VALUE=DATE:20260822
DTEND;VALUE=DATE:20260823
DTSTAMP:20260422T130546
CREATED:20260128T094414Z
LAST-MODIFIED:20260128T094414Z
UID:5351-1787356800-1787443199@feuerwehr-almhorst.de
SUMMARY:Übung RFB 2
DESCRIPTION:C.Wulf/L.Volker \nZeit noch offen!
URL:https://feuerwehr-almhorst.de/kalender/uebung-rfb-2
CATEGORIES:Einsatzabteilung
END:VEVENT
BEGIN:VEVENT
DTSTART;VALUE=DATE:20260829
DTEND;VALUE=DATE:20260830
DTSTAMP:20260422T130546
CREATED:20260128T094334Z
LAST-MODIFIED:20260128T094334Z
UID:5385-1787961600-1788047999@feuerwehr-almhorst.de
SUMMARY:Blaulichtparty 130 Jahre Ofw Seelze
DESCRIPTION:Zeit wird noch bekannt gegeben.
URL:https://feuerwehr-almhorst.de/kalender/blaulichtparty-130-jahre-ofw-seelze
CATEGORIES:Einsatzabteilung
END:VEVENT
END:VCALENDAR