BEGIN:VCALENDAR
VERSION:2.0
PRODID:-//Ortsfeuerwehr Almhorst - ECPv6.15.20//NONSGML v1.0//EN
CALSCALE:GREGORIAN
METHOD:PUBLISH
X-WR-CALNAME:Ortsfeuerwehr Almhorst
X-ORIGINAL-URL:https://feuerwehr-almhorst.de
X-WR-CALDESC:Veranstaltungen für Ortsfeuerwehr Almhorst
REFRESH-INTERVAL;VALUE=DURATION:PT1H
X-Robots-Tag:noindex
X-PUBLISHED-TTL:PT1H
BEGIN:VTIMEZONE
TZID:Europe/Berlin
BEGIN:DAYLIGHT
TZOFFSETFROM:+0100
TZOFFSETTO:+0200
TZNAME:CEST
DTSTART:20250330T010000
END:DAYLIGHT
BEGIN:STANDARD
TZOFFSETFROM:+0200
TZOFFSETTO:+0100
TZNAME:CET
DTSTART:20251026T010000
END:STANDARD
BEGIN:DAYLIGHT
TZOFFSETFROM:+0100
TZOFFSETTO:+0200
TZNAME:CEST
DTSTART:20260329T010000
END:DAYLIGHT
BEGIN:STANDARD
TZOFFSETFROM:+0200
TZOFFSETTO:+0100
TZNAME:CET
DTSTART:20261025T010000
END:STANDARD
BEGIN:DAYLIGHT
TZOFFSETFROM:+0100
TZOFFSETTO:+0200
TZNAME:CEST
DTSTART:20270328T010000
END:DAYLIGHT
BEGIN:STANDARD
TZOFFSETFROM:+0200
TZOFFSETTO:+0100
TZNAME:CET
DTSTART:20271031T010000
END:STANDARD
END:VTIMEZONE
BEGIN:VEVENT
DTSTART;TZID=Europe/Berlin:20260107T190000
DTEND;TZID=Europe/Berlin:20260107T210000
DTSTAMP:20260420T151601
CREATED:20250111T102732Z
LAST-MODIFIED:20250111T102732Z
UID:5055-1767812400-1767819600@feuerwehr-almhorst.de
SUMMARY:Weihnachtsbeleuchtung abnehmen
DESCRIPTION:J.Kreitz / R.Cordes
URL:https://feuerwehr-almhorst.de/kalender/weihnachtsbeleuchtung-abnehmen
CATEGORIES:Einsatzabteilung
END:VEVENT
BEGIN:VEVENT
DTSTART;TZID=Europe/Berlin:20260121T190000
DTEND;TZID=Europe/Berlin:20260121T210000
DTSTAMP:20260420T151601
CREATED:20250111T102844Z
LAST-MODIFIED:20260128T085043Z
UID:5057-1769022000-1769029200@feuerwehr-almhorst.de
SUMMARY:Stationsausbildung
DESCRIPTION:L.Hartmann/H.Hölscher
URL:https://feuerwehr-almhorst.de/kalender/uvv-atemschutzunterweisung-6
CATEGORIES:Einsatzabteilung
END:VEVENT
END:VCALENDAR